BEGIN:VCALENDAR
VERSION:2.0
PRODID:icalendar-ruby
CALSCALE:GREGORIAN
METHOD:PUBLISH
BEGIN:VEVENT
DTSTAMP:20260421T113018Z
UID:5-481773@valdesefirstbaptist.org
DTSTART:20260426T143000Z
DTEND:20260426T153000Z
CLASS:PUBLIC
CREATED:20260420T205152
DESCRIPTION:Sunday Worship
LAST-MODIFIED:20260420T205152
LOCATION:
SUMMARY:Sunday Worship
URL;VALUE=URI:https://www.valdesefirstbaptist.org/events/sunday-worship/202
 6-04-26
END:VEVENT
END:VCALENDAR
